BEGIN:VCALENDAR
VERSION:2.0
PRODID:-//wp-events-plugin.com//7.2.3.1//EN
TZID:Europe/Berlin
X-WR-TIMEZONE:Europe/Berlin
BEGIN:VEVENT
UID:2@abi67.mls-ehemalige.de
DTSTART;TZID=Europe/Berlin:20220914T190000
DTEND;TZID=Europe/Berlin:20220914T234500
DTSTAMP:20220911T110332Z
URL:https://abi67.mls-ehemalige.de/events/stammtisch-der-67er/
SUMMARY:Stammtisch der 67er - verlegt
DESCRIPTION:Nachdem zuerst die Gartenlaube wegen Personalmangels unsere Buc
 hung stornieren musste\, hat Helmut Georgi dankenswerterweise blitzschnell
  eine Alternative gefunden und gebucht: Wir feiern unseren Stammtisch der 
 67er ab 19.00 Uhr im Restaurant 5 Jahreszeiten an der Reitgasse 5. Dort is
 t auf Helmuts Namen ein Tisch für 12 Personen (erweiterbar) reserviert.\n
 \nHier die neuen Kontaktdaten der gebuchten Location:\n\n5 Jahreszeiten\, 
 Reitgasse 5\, 1. Obergeschoss\, 35037 Marburg\nTelefon: 49 (0)6421 88 689 
 88\, E-Mail: gethome@das5.de\n\nHomepage: https://www.das5.de/\n\n[themify
 _box color="gray"]\nAlter Text:\nDie „Location” für unseren geplanten
  Stammtisch am 14. September 2022 ab 19.00 Uhr steht! Mitte August konnte 
 ich einen passenden Raum in der Gartenlaube reservieren. Da wir auch schon
  vor fünf Jahren zur Feier unseres Goldenen Abiläums dort sehr zufrieden
  waren\, habe ich zugeschlagen. Je nach Teilnehmerzahl erhalten wir entwed
 er die normale Tageskarte oder eine eigene Auswahlkarte. Die Anmeldeformul
 are schalte ich so schnell wie möglich frei und werde sie hier verlinken.
 \n\nHier nochmal die Kontaktdaten der gebuchten Location:\n\nGartenlaube M
 arburg\, Steinweg 38\, 35037 Marburg\nTel.: +49 (0) 6421 61 76 62 • Fax:
  +49 (0) 6421 61 70 16\n\ninfo@gartenlaube-marburg.de\n\nhttps://gartenlau
 be-marburg.de\n\n[/themify_box]\nTeilnehmer\n[nonmember]Die Namensliste is
 t aus Datenschutzgründen nur für registrierte und angemeldete Besucher u
 nserer Homepage sichtbar. Wer sich jetzt mit Usernamen und Passwort auf un
 serer Homepage anmelden möchte\, kann diesem Link folgen.[/nonmember]\n\n
 [member]\n\n 	Albert\, Rolf - abgesagt\n 	Belau\, Wolfgang\n 	Boese\, Jör
 g\n 	Georgi\, Helmut mit Frau\n 	Gerber\, Werner\n 	Larsen\, Werner\n 	Met
 te\, Michael\n 	Misterek\, Erich mit Frau\n 	Noell\, Wolfgang\n 	Schönhal
 s\, Wolfgang und Christine\n 	Wagner\, Rolf-Dieter und Brigitte\n 	Wolter\
 , Manfred mit Frau\n\n[/member]\n\nStand am 11.09.2022: 16 Personen\n\nSol
 lte sich noch jemand anmelden wollen\, kann er dies jederzeit über das&nb
 sp\;Anmeldeformular&nbsp\;erledigen.
ATTACH;FMTTYPE=image/jpeg:https://abi67.mls-ehemalige.de/wp-content/upload
 s/2022/08/fi_stammtisch-2022_neu.jpg
CATEGORIES:Jubiläen
LOCATION:5 Jahreszeiten\, Reitgasse 5\, Marburg\, Hessen\, 35037\, Deutschl
 and
GEO:50.808889;8.771984
X-APPLE-STRUCTURED-LOCATION;VALUE=URI;X-ADDRESS=Reitgasse 5\, Marburg\, Hes
 sen\, 35037\, Deutschland;X-APPLE-RADIUS=100;X-TITLE=5 Jahreszeiten:geo:50
 .808889,8.771984
END:VEVENT
BEGIN:VTIMEZONE
TZID:Europe/Berlin
X-LIC-LOCATION:Europe/Berlin
BEGIN:DAYLIGHT
DTSTART:20220327T030000
TZOFFSETFROM:+0100
TZOFFSETTO:+0200
TZNAME:CEST
END:DAYLIGHT
END:VTIMEZONE
END:VCALENDAR